BEGIN:VCALENDAR
VERSION:2.0
PRODID:-//eventon.com NONSGML v1.0//EN
CALSCALE:GREGORIAN
METHOD:PUBLISH
BEGIN:VEVENT
UID:69e5e1d9ee36b
DTSTAMP:20260420T082041Z
DTSTART:20251116
DTEND:20251117
LOCATION:
SUMMARY:5. E-RLT BAW NW 2025 U11-U19 in Feuerbach
DESCRIPTION:Turnier.de Link\nhttps://bwbv.de/events/5-e-rlt-baw-nw-2025-u11
 -u19-in-feuerbach/
URL:https://bwbv.de/events/5-e-rlt-baw-nw-2025-u11-u19-in-feuerbach/
END:VEVENT
END:VCALENDAR