BEGIN:VCALENDAR
VERSION:2.0
PRODID:-//eventon.com NONSGML v1.0//EN
CALSCALE:GREGORIAN
METHOD:PUBLISH
BEGIN:VEVENT
UID:69ea4ff192f9c
DTSTAMP:20260423T165929Z
DTSTART:20260719
DTEND:20260720
LOCATION:
SUMMARY:29. Stromberg-Turnier in Illingen
DESCRIPTION:\nhttps://bwbv.de/events/30-stromberg-turnier-in-illingen/
URL:https://bwbv.de/events/30-stromberg-turnier-in-illingen/
END:VEVENT
END:VCALENDAR