BEGIN:VCALENDAR
VERSION:2.0
PRODID:-//eventon.com NONSGML v1.0//EN
CALSCALE:GREGORIAN
METHOD:PUBLISH
BEGIN:VEVENT
UID:69e5f403b9e5d
DTSTAMP:20260420T093811Z
DTSTART:20260124
DTEND:20260125
LOCATION:
SUMMARY:SüdOst-/ B-RLT U13-U19 (BBV)
DESCRIPTION:\nhttps://bwbv.de/events/suedost-b-rlt-u13-u19-bbv-3/
URL:https://bwbv.de/events/suedost-b-rlt-u13-u19-bbv-3/
END:VEVENT
END:VCALENDAR