BEGIN:VCALENDAR
VERSION:2.0
PRODID:-//eventon.com NONSGML v1.0//EN
CALSCALE:GREGORIAN
METHOD:PUBLISH
BEGIN:VEVENT
UID:69e6cd3aa13d5
DTSTAMP:20260421T010458Z
DTSTART:20250524
DTEND:20250525
LOCATION:
SUMMARY:Jubiläumsturnier  50 Jahre TV Germania Wiesenbach
DESCRIPTION:\nhttps://bwbv.de/events/jubilaeumsturnier-50-jahre-tv-germania
 -wiesenbach/
URL:https://bwbv.de/events/jubilaeumsturnier-50-jahre-tv-germania-wiesenbach/
END:VEVENT
END:VCALENDAR