BEGIN:VCALENDAR
VERSION:2.0
PRODID:-//eventon.com NONSGML v1.0//EN
CALSCALE:GREGORIAN
METHOD:PUBLISH
BEGIN:VEVENT
UID:69e89ef745007
DTSTAMP:20260422T101207Z
DTSTART:20250302
DTEND:20250303
LOCATION:
SUMMARY:BWBV-Mannschafts-Meisterschaft der Jugend in Schorndorf
DESCRIPTION:\nhttps://bwbv.de/events/bwbv-mannschafts-meisterschaft-der-jug
 end-in-schorndorf/
URL:https://bwbv.de/events/bwbv-mannschafts-meisterschaft-der-jugend-in-schorndorf/
END:VEVENT
END:VCALENDAR