BEGIN:VCALENDAR
VERSION:2.0
PRODID:-//eventon.com NONSGML v1.0//EN
CALSCALE:GREGORIAN
METHOD:PUBLISH
BEGIN:VEVENT
UID:69e5f5553eb9b
DTSTAMP:20260420T094349Z
DTSTART:20251214
DTEND:20251215
LOCATION:
SUMMARY:SpT Bezirk Jugend
DESCRIPTION:\nhttps://bwbv.de/events/spt-bezirk-jugend-3/
URL:https://bwbv.de/events/spt-bezirk-jugend-3/
END:VEVENT
END:VCALENDAR