BEGIN:VCALENDAR
VERSION:2.0
PRODID:-//eventon.com NONSGML v1.0//EN
CALSCALE:GREGORIAN
METHOD:PUBLISH
BEGIN:VEVENT
UID:69eb151a13e4f
DTSTAMP:20260424T070042Z
DTSTART:20251025
DTEND:20251026
LOCATION:
SUMMARY:Spieltag 2 Verbandsrunde
DESCRIPTION:\nhttps://bwbv.de/events/spieltag-2/
URL:https://bwbv.de/events/spieltag-2/
END:VEVENT
END:VCALENDAR