BEGIN:VCALENDAR
VERSION:2.0
PRODID:-//eventon.com NONSGML v1.0//EN
CALSCALE:GREGORIAN
METHOD:PUBLISH
BEGIN:VEVENT
UID:69e5e1b1acd87
DTSTAMP:20260420T082001Z
DTSTART:20241207
DTEND:20241208
LOCATION:
SUMMARY:Mannschaftsendrunde in Spaichingen
DESCRIPTION:\nhttps://bwbv.de/events/mannschaftsendrunde-in-spaichingen/
URL:https://bwbv.de/events/mannschaftsendrunde-in-spaichingen/
END:VEVENT
END:VCALENDAR