BEGIN:VCALENDAR
VERSION:2.0
PRODID:-//eventon.com NONSGML v1.0//EN
CALSCALE:GREGORIAN
METHOD:PUBLISH
BEGIN:VEVENT
UID:69e608fdd1b54
DTSTAMP:20260420T110741Z
DTSTART:20240929
DTEND:20240930
LOCATION:
SUMMARY:YONEX-BWBV-Circuit Baden-Württemberg Freiburg
DESCRIPTION:\nhttps://bwbv.de/events/yonex-bwbv-circuit-baden-wuerttemberg-
 freiburg/
URL:https://bwbv.de/events/yonex-bwbv-circuit-baden-wuerttemberg-freiburg/
END:VEVENT
END:VCALENDAR