BEGIN:VCALENDAR
VERSION:2.0
PRODID:-//eventon.com NONSGML v1.0//EN
CALSCALE:GREGORIAN
METHOD:PUBLISH
BEGIN:VEVENT
UID:69e9de23a4c19
DTSTAMP:20260423T085355Z
DTSTART:20250516
DTEND:20250517
LOCATION:
SUMMARY:Bezirksversammlung NB/SB/NW/SW
DESCRIPTION:\nhttps://bwbv.de/events/bezirksversammlung-nb-sb-nw-sw/
URL:https://bwbv.de/events/bezirksversammlung-nb-sb-nw-sw/
END:VEVENT
END:VCALENDAR