BEGIN:VCALENDAR
VERSION:2.0
PRODID:-//eventon.com NONSGML v1.0//EN
CALSCALE:GREGORIAN
METHOD:PUBLISH
BEGIN:VEVENT
UID:69ebe19e92181
DTSTAMP:20260424T213318Z
DTSTART:20250118
DTEND:20250119
LOCATION:
SUMMARY:SüdOst-/B-RLT U13-U19 (BBV)
DESCRIPTION:\nhttps://bwbv.de/events/suedost-b-rlt-u13-u19-bbv/
URL:https://bwbv.de/events/suedost-b-rlt-u13-u19-bbv/
END:VEVENT
END:VCALENDAR