BEGIN:VCALENDAR
VERSION:2.0
PRODID:-//eventon.com NONSGML v1.0//EN
CALSCALE:GREGORIAN
METHOD:PUBLISH
BEGIN:VEVENT
UID:69e5e1b84f372
DTSTAMP:20260420T082008Z
DTSTART:20241020
DTEND:20241021
LOCATION:
SUMMARY:5. Regional-/E-RLT der Jugend Heidenheim
DESCRIPTION:Turnier.de Link\nhttps://bwbv.de/events/5-regional-e-rlt-der-ju
 gend-heidenheim/
URL:https://bwbv.de/events/5-regional-e-rlt-der-jugend-heidenheim/
END:VEVENT
END:VCALENDAR