BEGIN:VCALENDAR
VERSION:2.0
PRODID:-//eventon.com NONSGML v1.0//EN
CALSCALE:GREGORIAN
METHOD:PUBLISH
BEGIN:VEVENT
UID:69eb24ffdfdb3
DTSTAMP:20260424T080831Z
DTSTART:20241116
DTEND:20241117
LOCATION:
SUMMARY:3. Bezirks-/D-RLT der Jugend Aalen
DESCRIPTION:3. Bezirks-/D-RLT der Jugend Aalen\nhttps://bwbv.de/events/3-be
 zirks-d-rlt-der-jugend-aalen/
URL:https://bwbv.de/events/3-bezirks-d-rlt-der-jugend-aalen/
END:VEVENT
END:VCALENDAR