BEGIN:VCALENDAR
VERSION:2.0
PRODID:-//eventon.com NONSGML v1.0//EN
CALSCALE:GREGORIAN
METHOD:PUBLISH
BEGIN:VEVENT
UID:69e9bf1d2a034
DTSTAMP:20260423T064133Z
DTSTART:20240921
DTEND:20240922
LOCATION:
SUMMARY:5. Neckargemünder Badminton Turnier Neckargemünd
DESCRIPTION:Weitere Infos zum Tunier unter https://badminton-neckargemuend.
 de/event/5-neckargemuender-badminton-turnier/Downloads: Ausschreibung; Tuni
 eranmeldung\nhttps://bwbv.de/events/5-neckargemuenderbadminton-turnier-neck
 argemuend/
URL:https://bwbv.de/events/5-neckargemuenderbadminton-turnier-neckargemuend/
END:VEVENT
END:VCALENDAR