BEGIN:VCALENDAR
VERSION:2.0
PRODID:-//eventon.com NONSGML v1.0//EN
CALSCALE:GREGORIAN
METHOD:PUBLISH
BEGIN:VEVENT
UID:69e5f407917ac
DTSTAMP:20260420T093815Z
DTSTART:20241130
DTEND:20241201
LOCATION:
SUMMARY:3. Bezirks-/D-RLT der Jugend Neusatz
DESCRIPTION:3. Bezirks-/D-RLT der Jugend Neusatz\nhttps://bwbv.de/events/3-
 bezirks-d-rlt-der-jugend-2/
URL:https://bwbv.de/events/3-bezirks-d-rlt-der-jugend-2/
END:VEVENT
END:VCALENDAR