BEGIN:VCALENDAR
VERSION:2.0
PRODID:-//eventon.com NONSGML v1.0//EN
CALSCALE:GREGORIAN
METHOD:PUBLISH
BEGIN:VEVENT
UID:69e895adc809f
DTSTAMP:20260422T093229Z
DTSTART:20240517
DTEND:20240518
LOCATION:
SUMMARY:Bezirksversammlung SW
DESCRIPTION:Bezirksversammlung SW\nhttps://bwbv.de/events/bezirksversammlun
 g-sw/
URL:https://bwbv.de/events/bezirksversammlung-sw/
END:VEVENT
END:VCALENDAR