BEGIN:VCALENDAR
VERSION:2.0
PRODID:-//eventon.com NONSGML v1.0//EN
CALSCALE:GREGORIAN
METHOD:PUBLISH
BEGIN:VEVENT
UID:69e4dae9d76b2
DTSTAMP:20260419T133849Z
DTSTART:20240517
DTEND:20240518
LOCATION:
SUMMARY:Bezirksversammlung SB
DESCRIPTION:Bezirksversammlung SB\nhttps://bwbv.de/events/bezirksversammlun
 g-sb/
URL:https://bwbv.de/events/bezirksversammlung-sb/
END:VEVENT
END:VCALENDAR