BEGIN:VCALENDAR
VERSION:2.0
PRODID:-//eventon.com NONSGML v1.0//EN
CALSCALE:GREGORIAN
METHOD:PUBLISH
BEGIN:VEVENT
UID:69e5e1a38266c
DTSTAMP:20260420T081947Z
DTSTART:20240428
DTEND:20240429
LOCATION:
SUMMARY:BWBV-Mannschafts-M. AK
DESCRIPTION:BWBV-Mannschafts-M. AK\nhttps://bwbv.de/events/bwbv-mannschafts
 -m-ak/
URL:https://bwbv.de/events/bwbv-mannschafts-m-ak/
END:VEVENT
END:VCALENDAR