BEGIN:VCALENDAR
VERSION:2.0
PRODID:-//eventon.com NONSGML v1.0//EN
CALSCALE:GREGORIAN
METHOD:PUBLISH
BEGIN:VEVENT
UID:69e5e1a80cf66
DTSTAMP:20260420T081952Z
DTSTART:20240614
DTEND:20240615
LOCATION:
SUMMARY:C-Trainer*innenfortbildung 02/2024
DESCRIPTION:C-Trainer*innenfortbildung 02/2024\nhttps://bwbv.de/events/c-tr
 ainerinnenfortbildung-02-2024/
URL:https://bwbv.de/events/c-trainerinnenfortbildung-02-2024/
END:VEVENT
END:VCALENDAR