BEGIN:VCALENDAR
VERSION:2.0
PRODID:-//eventon.com NONSGML v1.0//EN
CALSCALE:GREGORIAN
METHOD:PUBLISH
BEGIN:VEVENT
UID:69e6e3772257c
DTSTAMP:20260421T023951Z
DTSTART:20240412
DTEND:20240413
LOCATION:
SUMMARY:C-Trainer*innenfortbildung 01/2024
DESCRIPTION:C-Trainer*innenfortbildung 01/2024\nhttps://bwbv.de/events/c-tr
 ainerinnenfortbildung-01-2024/
URL:https://bwbv.de/events/c-trainerinnenfortbildung-01-2024/
END:VEVENT
END:VCALENDAR