BEGIN:VCALENDAR
VERSION:2.0
PRODID:-//eventon.com NONSGML v1.0//EN
CALSCALE:GREGORIAN
METHOD:PUBLISH
BEGIN:VEVENT
UID:69ea2bdeeba6e
DTSTAMP:20260423T142534Z
DTSTART:20240615
DTEND:20240616
LOCATION:
SUMMARY:3. A-RLT U15 Maintal
DESCRIPTION:3. A-RLT U15 Maintal\nhttps://bwbv.de/events/3-a-rlt-u15-mainta
 l/
URL:https://bwbv.de/events/3-a-rlt-u15-maintal/
END:VEVENT
END:VCALENDAR