BEGIN:VCALENDAR
VERSION:2.0
PRODID:-//eventon.com NONSGML v1.0//EN
CALSCALE:GREGORIAN
METHOD:PUBLISH
BEGIN:VEVENT
UID:69e978e4666a6
DTSTAMP:20260423T014156Z
DTSTART:20240303
DTEND:20240304
LOCATION:
SUMMARY:2. E-RLT BAW SB-Ost U11-U19 Zizenhausen
DESCRIPTION:Ausschreibung Turnier.de-Link\nhttps://bwbv.de/events/2-e-rlt-b
 aw-sb-ost-u11-u19-zizenhausen/
URL:https://bwbv.de/events/2-e-rlt-baw-sb-ost-u11-u19-zizenhausen/
END:VEVENT
END:VCALENDAR